BEGIN:VCALENDAR
VERSION:2.0
PRODID:-//hacksw/handcal//NONSGML v1.0//EN
BEGIN:VEVENT
SUMMARY:Reunion Comite Directeur
UID:5f0f4904-1afe-47ac-82ad-dd7a068230ef
DTSTART:20260415T163000Z
DTEND:20260415T180000Z
LOCATION:Localisation   
CATEGORIES:Administratif
STATUS:
URL;VALUE=URI:https://billardstsebastien.sportsregions.fr/evenements/2026/04/15/reunion-comite-directeur-2434877
END:VEVENT
END:VCALENDAR
